BEGIN:VCALENDAR
VERSION:2.0
PRODID:-//ChamberMaster//Event Calendar 2.0//EN
METHOD:PUBLISH
X-PUBLISHED-TTL:P3D
REFRESH-INTERVAL:P3D
CALSCALE:GREGORIAN
BEGIN:VEVENT
DTSTART:20130627T120000Z
DTEND:20130627T153000Z
X-MICROSOFT-CDO-ALLDAYEVENT:FALSE
SUMMARY:Ohio Shale Development: Ecomonic Opportunities Forum
DESCRIPTION:CLICK HERE FOR EVENT AGENDA\n\n	\n\n	Shale energy has the potential to be a game changer for Ohio's economy and an opportunity maker for a wide range of Ohio businesses. You won't want to miss this important forum aimed at helping North Central Ohio business leaders learn how to tap into the many opportunities being created by the shale industry.\n\n	\n\n	From manufacturers\, engineering firms\, trucking companies\, and construction companies\, to landscapers\, wholesalers\, bankers\, many service providers and retailers\, businesses in nearly every sector of Ohio's economy are finding opportunities related to shale energy development.\n\n	By investing a few hours of your time\, you'll learn about the development of the Utica shale and the potential opportunities it can create for your business.
X-ALT-DESC;FMTTYPE=text/html:<p style="text-align: justify\;">\n	<strong><a href="http://cloud.chambermaster.com/userfiles/UserFiles/chambers/1651/File/Workshops_Forums/June27Invitation.pdf"><em><span style="color: rgb(0\, 0\, 0)\;">CLICK HERE FOR EVENT AGENDA</span></em></a><br />\n	<br />\n	<span style="color: rgb(0\, 128\, 128)\;">Shale energy has the potential to be a game changer for Ohio&#39\;s economy and an opportunity maker for a wide range of Ohio businesses. You won&#39\;t want to miss this important forum aimed at helping North Central Ohio business leaders learn how to tap into the many opportunities being created by the shale industry.<br />\n	<br />\n	From manufacturers\, engineering firms\, trucking companies\, and construction companies\, to landscapers\, wholesalers\, bankers\, many service providers and retailers\, businesses in nearly every sector of Ohio&#39\;s economy are finding opportunities related to shale energy development.</span></strong></p>\n<p style="text-align: justify\;">\n	<strong><span style="color: rgb(0\, 128\, 128)\;">By investing a few hours of your time\, you&#39\;ll learn about the development of the Utica shale and the potential opportunities it can create for your business.</span></strong></p>\n
LOCATION:Deer Ridge Golf Club 900 Comfort Plaza Dr.\, Bellville\, OH 44813 (right of I-71)
UID:e.1651.651
SEQUENCE:3
DTSTAMP:20260423T083015Z
URL:https://members.ashlandoh.com/events/details/ohio-shale-development-ecomonic-opportunities-forum-06-27-2013-651
END:VEVENT

END:VCALENDAR
