BEGIN:VCALENDAR
VERSION:2.0
PRODID:-//ChamberMaster//Event Calendar 2.0//EN
METHOD:PUBLISH
X-PUBLISHED-TTL:P3D
REFRESH-INTERVAL:P3D
CALSCALE:GREGORIAN
BEGIN:VEVENT
DTSTART:20130930T120000Z
DTEND:20130930T203000Z
X-MICROSOFT-CDO-ALLDAYEVENT:FALSE
SUMMARY:OSHA 10 hour & 30 hour General Industry Training Class
DESCRIPTION:OSHA General Industry Training Class\n\n	\n\n	The Ashland Area Safety Council in cooperation with OSHA is sponsoring this FREE training program in two formats:\n\n	\n		 OSHA 10 - Hour Training Class \n	\n		 OSHA 30 - Hour Training Class \n\n\n	10 - Hour Training Session schedule:\n\n	Monday - Tuesday (8:00 am - 4:30 pm)\n\n	\n\n	30 - Hour Training Session schedule:\n\n	Monday - Thursday (8:00 am - 4:30 pm) and\n\n	Friday (8:00 am - 1:00 pm)\n\n	\n\n	REGISTRATION IS REQUIRED!\n\n	Registrants have the options of purchasing a lunch package for this training or bringing their own lunch to the event:\n\n	\n		10 - Hour Training Session Lunch Package (Mon-Tues) $16.00 total\n	\n		30 - Hour Training Session Lunch Package (Mon-Thurs) $32.00 total\n\n\n	\n\n	For more information about this event\, CLICK HERE!
X-ALT-DESC;FMTTYPE=text/html:<p>\n	<span style="color: rgb(165\, 42\, 42)\;"><strong><span style="font-size: 16px\;">OSHA General Industry Training Class</span></strong></span><br />\n	<br />\n	The Ashland Area Safety Council in cooperation with OSHA is sponsoring this FREE training program in two formats:</p>\n<ul>\n	<li>\n		&nbsp\;<strong>OSHA 10 - Hour Training Class </strong></li>\n	<li>\n		<strong>&nbsp\;OSHA 30 - Hour Training Class </strong></li>\n</ul>\n<p>\n	<span style="color: rgb(165\, 42\, 42)\;"><span style="font-size: 14px\;"><strong>10 - Hour Training Session schedule:</strong></span></span><br />\n	Monday - Tuesday (8:00 am - 4:30 pm)<br />\n	<br />\n	<span style="color: rgb(165\, 42\, 42)\;"><strong><span style="font-size: 14px\;">30 - Hour Training Session schedule:</span></strong></span><br />\n	Monday - Thursday (8:00 am - 4:30 pm) and<br />\n	Friday (8:00 am - 1:00 pm)<br />\n	<br />\n	<strong>REGISTRATION IS REQUIRED!</strong><br />\n	Registrants have the options of purchasing a lunch package for this training or bringing their own lunch to the event:</p>\n<ul>\n	<li>\n		<strong>10 - Hour Training</strong> Session Lunch Package (Mon-Tues) <em><span style="color: rgb(0\, 0\, 205)\;">$16.00 total</span></em></li>\n	<li>\n		<strong>30 - Hour Training</strong> Session Lunch Package (Mon-Thurs) <span style="color: rgb(0\, 0\, 205)\;"><em>$32.00 total</em></span></li>\n</ul>\n<p>\n	<br />\n	For more information about this event\, <strong>CLICK HERE</strong>!<br />\n	<br />\n	<br />\n	&nbsp\;</p>\n
LOCATION:Farmers State Bank Lower Level 1690 E Main St. Ashland\, OH 44805
UID:e.1651.885
SEQUENCE:3
DTSTAMP:20260423T035329Z
URL:https://members.ashlandoh.com/events/details/osha-10-hour-30-hour-general-industry-training-class-09-30-2013-885
END:VEVENT

END:VCALENDAR
