BEGIN:VCALENDAR
VERSION:2.0
PRODID:-//ChamberMaster//Event Calendar 2.0//EN
METHOD:PUBLISH
X-PUBLISHED-TTL:P3D
REFRESH-INTERVAL:P3D
CALSCALE:GREGORIAN
BEGIN:VEVENT
DTSTART:20150505T120000Z
DTEND:20150505T203000Z
X-MICROSOFT-CDO-ALLDAYEVENT:FALSE
SUMMARY:OSHA 10 Hour Course May 4 and May 5\, 2015
DESCRIPTION:FREE BWC GENERAL INDUSTRY\n\nOSHA 10 Hour Course\n\n\n\nDon't miss out on this valuable training session -\n\n	Attendance meets the Safety Council External Credit requirement\n	Meets Industry Specific Safety Program (ISSP) requirements\n	Attendance Certificates will be given upon completion of the course\n	Instructors are authorized BWC consultants\n\nEVENT DETAILS:\n\nDate: Mon.\, May 4 - Tue.\, May 5 2015\n\nTime: 8:00 am - 4:30 pm\n\nPlace: Hedstrom - Ball Bounce & Sport - Training Center\, 1 Hedstrom Dr.\, Ashland OH 44805\n\nCost: Free - No Lunch\n\n         $10 - Lunch\n\n\n\nRegistration Required!
X-ALT-DESC;FMTTYPE=text/html:<span style="color:#0000CD\;"><span style="font-size: 16px\;"><strong>FREE BWC GENERAL INDUSTRY</strong></span></span><br />\n<span style="color:#A52A2A\;"><span style="font-size: 14px\;"><span style="font-family: comic sans ms\;">OSHA 10 Hour Course</span></span></span><br />\n<br />\nDon&#39\;t miss out on this valuable training session -\n<ul>\n	<li>Attendance meets the Safety Council External Credit requirement</li>\n	<li>Meets Industry Specific Safety Program (ISSP) requirements</li>\n	<li>Attendance Certificates will be given upon completion of the course</li>\n	<li>Instructors are authorized BWC consultants</li>\n</ul>\n<u><strong>EVENT DETAILS:</strong></u><br />\n<em><strong>Date:</strong></em> Mon.\, May 4 - Tue.\, May 5 2015<br />\n<em><strong>Time:</strong></em> 8:00 am - 4:30 pm<br />\n<em><strong>Place:</strong></em> Hedstrom - Ball Bounce &amp\; Sport - Training Center\, 1 Hedstrom Dr.\, Ashland OH 44805<br />\n<em><strong>Cost:</strong></em> Free - No Lunch<br />\n&nbsp\;&nbsp\;&nbsp\;&nbsp\;&nbsp\;&nbsp\;&nbsp\;&nbsp\; $10 - Lunch<br />\n<br />\n<span style="color:#FF0000\;"><em>Registration Required!</em></span>
LOCATION:Hedstrom - Ball Bounce & Sport 1 Hedstrom Dr. - Training Facility Ashland OH 44805 Watch for the yellow flag!
UID:e.1651.1637
SEQUENCE:3
DTSTAMP:20260421T200755Z
URL:https://members.ashlandoh.com/events/details/osha-10-hour-course-may-4-and-may-5-2015-05-05-2015-1637
END:VEVENT

END:VCALENDAR
