BEGIN:VCALENDAR
VERSION:2.0
PRODID:-//ChamberMaster//Event Calendar 2.0//EN
METHOD:PUBLISH
X-PUBLISHED-TTL:P3D
REFRESH-INTERVAL:P3D
CALSCALE:GREGORIAN
BEGIN:VEVENT
DTSTART:20150507T120000Z
DTEND:20150507T203000Z
X-MICROSOFT-CDO-ALLDAYEVENT:FALSE
SUMMARY:OSHA 30 Hour Course May 4 through May 7\, 2015
DESCRIPTION:BWC GENERAL INDUSTRY\n\nOSHA 30 Hour Course\n\n\n\nDon't miss out on this valuable training session -\n\n	Attendance meets the Safety Council External Credit requirement\n	Attendance Certificates will be given upon completion of the course\n	Instructors are authorized BWC consultants\n	OSHA Card provided upon completion of course (Fee - see below)\n\n\n\nEVENT DETAILS:\n\nDate: Mon.\, May 4 - Thurs.\, May 7\, 2015\n\nTime: 8:00 am - 4:30 pm\n\nPlace: Hedstrom Ball Bounce & Sport - Training Center\, 1 Hedstrom Dr.\, Ashland OH 44805\n\nCost: Free - NO LUNCH\n\n         $10 - LUNCH\n\n\n\nReminder: OSHA CARD: $5 fee must be paid to the instructor on the first day of training if you plan to receive an OSHA Card.
X-ALT-DESC;FMTTYPE=text/html:<span style="color:#0000CD\;"><span style="font-size: 16px\;"><strong>BWC GENERAL INDUSTRY</strong></span></span><br />\n<span style="color:#A52A2A\;"><span style="font-size: 14px\;"><span style="font-family: comic sans ms\;">OSHA 30 Hour Course</span></span></span><br />\n<br />\nDon&#39\;t miss out on this valuable training session -\n<ul>\n	<li>Attendance meets the Safety Council External Credit requirement</li>\n	<li>Attendance Certificates will be given upon completion of the course</li>\n	<li>Instructors are authorized BWC consultants</li>\n	<li>OSHA Card provided upon completion of course (Fee - see below)</li>\n</ul>\n<br />\n<u><strong>EVENT DETAILS:</strong></u><br />\n<em><strong>Date: </strong></em>Mon.\, May 4 - Thurs.\, May 7\, 2015<br />\n<em><strong>Time:</strong></em> 8:00 am - 4:30 pm<br />\n<em><strong>Place:</strong></em> Hedstrom Ball Bounce &amp\; Sport - Training Center\, 1 Hedstrom Dr.\, Ashland OH 44805<br />\n<em><strong>Cost:</strong></em> Free - NO LUNCH<br />\n&nbsp\;&nbsp\;&nbsp\;&nbsp\;&nbsp\;&nbsp\;&nbsp\;&nbsp\; $10 - LUNCH<br />\n<br />\n<span style="color:#0000CD\;">Reminder: <em><strong>OSHA CARD:</strong></em> $5 fee must be paid to the instructor on the first day of training if you plan to receive an OSHA Card.</span>
LOCATION:Hedstrom - Ball Bounce & Sport 1 Hedstrom Dr. - Training Facility Ashland OH 44805 Watch for the yellow flag!
UID:e.1651.1641
SEQUENCE:3
DTSTAMP:20260421T181903Z
URL:https://members.ashlandoh.com/events/details/osha-30-hour-course-may-4-through-may-7-2015-05-07-2015-1641
END:VEVENT

END:VCALENDAR
