BEGIN:VCALENDAR
VERSION:2.0
PRODID:-//ChamberMaster//Event Calendar 2.0//EN
METHOD:PUBLISH
X-PUBLISHED-TTL:P3D
REFRESH-INTERVAL:P3D
CALSCALE:GREGORIAN
BEGIN:VEVENT
DTSTART:20171031T150000Z
DTEND:20171031T153000Z
X-MICROSOFT-CDO-ALLDAYEVENT:FALSE
SUMMARY:Quick Lane of Ashland - Ribbon Cutting 10-31-17
DESCRIPTION:Come and join us for our Ribbon Cutting Celebration\n\nDate: Tuesday\, October 31\, 2017\n\nTime: 11:00 am\n\nPlace: 1677 Claremont Ave.\, Ashland OH 44805\n\nBring: Congrats and business cards
X-ALT-DESC;FMTTYPE=text/html:Come and join us for our Ribbon Cutting Celebration<br />\nDate: Tuesday\, October 31\, 2017<br />\nTime: 11:00 am<br />\nPlace: 1677 Claremont Ave.\, Ashland OH 44805<br />\nBring: Congrats and business cards
LOCATION:1677 Claremont Ave. Ashland OH 44805
UID:e.1651.5372
SEQUENCE:3
DTSTAMP:20260419T155135Z
URL:https://members.ashlandoh.com/events/details/quick-lane-of-ashland-ribbon-cutting-10-31-17-5372
END:VEVENT

END:VCALENDAR
