BEGIN:VCALENDAR
VERSION:2.0
PRODID:-//ChamberMaster//Event Calendar 2.0//EN
METHOD:PUBLISH
X-PUBLISHED-TTL:P3D
REFRESH-INTERVAL:P3D
CALSCALE:GREGORIAN
BEGIN:VEVENT
DTSTART:20130506T140000Z
DTEND:20130506T143000Z
X-MICROSOFT-CDO-ALLDAYEVENT:FALSE
SUMMARY:Ribbon Cutting - Beachcombin/ 5-6-13
DESCRIPTION:Come and Celebrate with us at our new location\n\n	6 E Main St\n\n	Ashland\, OH 44805\n\n	Phone: 567-215-6979
X-ALT-DESC;FMTTYPE=text/html:<p>\n	<strong>Come and Celebrate with us at our new location</strong></p>\n<p>\n	6 E Main St<br />\n	Ashland\, OH 44805<br />\n	<strong>Phone:</strong> 567-215-6979<br />\n	<br />\n	&nbsp\;</p>\n
LOCATION:
UID:e.1651.619
SEQUENCE:3
DTSTAMP:20260423T102339Z
URL:https://members.ashlandoh.com/events/details/ribbon-cutting-beachcombin-5-6-13-05-06-2013-619
END:VEVENT

END:VCALENDAR
