BEGIN:VCALENDAR
VERSION:2.0
PRODID:-//ChamberMaster//Event Calendar 2.0//EN
METHOD:PUBLISH
X-PUBLISHED-TTL:P3D
REFRESH-INTERVAL:P3D
CALSCALE:GREGORIAN
BEGIN:VEVENT
DTSTART:20131023T210000Z
DTEND:20131023T220000Z
X-MICROSOFT-CDO-ALLDAYEVENT:FALSE
SUMMARY:Ribbon Cutting Ceremony @ Ashland County Community Academy
DESCRIPTION:Come and celebrate with us at our new location!\n\n716 Union St.\, Ashland\, OH 44805\n\n\n\nDate: Wednesday\, October 23\, 2013\n\nTime: 5:00 pm\n\n\n\nFree event! \n\nRemember you can stop by for just a minute. We would love to see you there!
X-ALT-DESC;FMTTYPE=text/html:<strong>Come and celebrate with us at our new location!</strong><br />\n716 Union St.\, Ashland\, OH 44805<br />\n<br />\nDate: Wednesday\, October 23\, 2013<br />\nTime: 5:00 pm<br />\n<br />\n<strong>Free event! </strong><br />\nRemember you can stop by for just a minute. We would love to see you there!
LOCATION:
UID:e.1651.907
SEQUENCE:3
DTSTAMP:20260423T021259Z
URL:https://members.ashlandoh.com/events/details/ribbon-cutting-ceremony-ashland-county-community-academy-10-23-2013-907
END:VEVENT

END:VCALENDAR
