BEGIN:VCALENDAR
VERSION:2.0
PRODID:-//ChamberMaster//Event Calendar 2.0//EN
METHOD:PUBLISH
X-PUBLISHED-TTL:P3D
REFRESH-INTERVAL:P3D
CALSCALE:GREGORIAN
BEGIN:VEVENT
DTSTART:20131018T170000Z
DTEND:20131018T173000Z
X-MICROSOFT-CDO-ALLDAYEVENT:FALSE
SUMMARY:Ribbon Cutting Ceremony @ O'Reilly Auto Parts
DESCRIPTION:Grand Opening & Ribbon Cutting Ceremony
X-ALT-DESC;FMTTYPE=text/html:Grand Opening &amp\; Ribbon Cutting Ceremony
LOCATION:972 E. Main St.\, Ashland OH
UID:e.1651.896
SEQUENCE:3
DTSTAMP:20260423T021257Z
URL:https://members.ashlandoh.com/events/details/ribbon-cutting-ceremony-o-reilly-auto-parts-10-18-2013-896
END:VEVENT

END:VCALENDAR
