BEGIN:VCALENDAR
VERSION:2.0
PRODID:-//ChamberMaster//Event Calendar 2.0//EN
METHOD:PUBLISH
X-PUBLISHED-TTL:P3D
REFRESH-INTERVAL:P3D
CALSCALE:GREGORIAN
BEGIN:VEVENT
DTSTART:20131104T180000Z
DTEND:20131104T183000Z
X-MICROSOFT-CDO-ALLDAYEVENT:FALSE
SUMMARY:Ribbon Cutting Ceremony @ Smart Digital
DESCRIPTION:Come and celebrate with us at our new location!\n\n\n\nDate: Monday\, November 4\, 2013\n\nTime: 10:00 am\n\n\n\nFREE EVENT!\n\n\n\nWe hope to see you there!
X-ALT-DESC;FMTTYPE=text/html:<strong>Come and celebrate with us at our new location!</strong><br />\n<br />\n<strong>Date:</strong> Monday\, November 4\, 2013<br />\n<strong>Time:</strong> 10:00 am<br />\n<br />\nFREE EVENT!<br />\n<br />\nWe hope to see you there!
LOCATION:732 Clark Ave. Ashland\, Ohio 44805 419-922-9140
UID:e.1651.908
SEQUENCE:3
DTSTAMP:20260423T020945Z
URL:https://members.ashlandoh.com/events/details/ribbon-cutting-ceremony-smart-digital-11-04-2013-908
END:VEVENT

END:VCALENDAR
