BEGIN:VCALENDAR
VERSION:2.0
PRODID:-//ChamberMaster//Event Calendar 2.0//EN
METHOD:PUBLISH
X-PUBLISHED-TTL:P3D
REFRESH-INTERVAL:P3D
CALSCALE:GREGORIAN
BEGIN:VEVENT
DTSTART:20161207T151500Z
DTEND:20161207T154500Z
X-MICROSOFT-CDO-ALLDAYEVENT:FALSE
SUMMARY:Ribbon Cutting - Flour Barrel
DESCRIPTION:Ribbon Cutting Ceremony -\n\nIntroducing our Newest Chamber Member!\n\nRhonda Boulden\, new owner for the Flour Barrel\, a bulk food an deli store.\n\n\n\nCome learn about the changes they have made and learn about the future changes!  Great new design and products!
X-ALT-DESC;FMTTYPE=text/html:Ribbon Cutting Ceremony -<br />\nIntroducing our Newest Chamber Member!<br />\nRhonda Boulden\, new owner for the Flour Barrel\, a bulk food an deli store.<br />\n<br />\nCome learn about the changes they have made and learn about the future changes!&nbsp\; Great new design and products!
LOCATION:1289 B Claremont Ave.
UID:e.1651.4202
SEQUENCE:3
DTSTAMP:20260420T090327Z
URL:https://members.ashlandoh.com/events/details/ribbon-cutting-flour-barrel-4202
END:VEVENT

END:VCALENDAR
