BEGIN:VCALENDAR
VERSION:2.0
PRODID:-//ChamberMaster//Event Calendar 2.0//EN
METHOD:PUBLISH
X-PUBLISHED-TTL:P3D
REFRESH-INTERVAL:P3D
CALSCALE:GREGORIAN
BEGIN:VEVENT
DTSTART:20130816T201500Z
DTEND:20130816T220000Z
X-MICROSOFT-CDO-ALLDAYEVENT:FALSE
SUMMARY:Ribbon Cutting for Hands2Serve
DESCRIPTION:Ribbon Cutting Ceremony for New Member:\n\n\n\nHands 2 Serve    - a licensed massage therapist\, specializing in injury recovery therapy.
X-ALT-DESC;FMTTYPE=text/html:<strong>Ribbon Cutting Ceremony for New Member:</strong><br />\n<br />\nHands 2 Serve&nbsp\;&nbsp\;&nbsp\;&nbsp\;- a licensed massage therapist\, specializing in injury recovery therapy.
LOCATION:Pump House 2nd Floor
UID:e.1651.876
SEQUENCE:3
DTSTAMP:20260423T064843Z
URL:https://members.ashlandoh.com/events/details/ribbon-cutting-for-hands2serve-08-16-2013-876
END:VEVENT

END:VCALENDAR
