BEGIN:VCALENDAR
VERSION:2.0
PRODID:-//ChamberMaster//Event Calendar 2.0//EN
METHOD:PUBLISH
X-PUBLISHED-TTL:P3D
REFRESH-INTERVAL:P3D
CALSCALE:GREGORIAN
BEGIN:VEVENT
DTSTART:20130508T140000Z
DTEND:20130508T180000Z
X-MICROSOFT-CDO-ALLDAYEVENT:FALSE
SUMMARY:Ribbon Cutting - Humana 5-8-13
DESCRIPTION:Ribbon Cutting Ceremony for Humana
X-ALT-DESC;FMTTYPE=text/html:Ribbon Cutting Ceremony for Humana
LOCATION:85 Amberwood Parkway\, Suite H Ashland\, OH 44805 (567) 202-0805 bfowler3@humana.com
UID:e.1651.611
SEQUENCE:3
DTSTAMP:20260423T102654Z
URL:https://members.ashlandoh.com/events/details/ribbon-cutting-humana-5-8-13-05-08-2013-611
END:VEVENT

END:VCALENDAR
