BEGIN:VCALENDAR
VERSION:2.0
PRODID:-//ChamberMaster//Event Calendar 2.0//EN
METHOD:PUBLISH
X-PUBLISHED-TTL:P3D
REFRESH-INTERVAL:P3D
CALSCALE:GREGORIAN
BEGIN:VEVENT
DTSTART:20160506T180000Z
DTEND:20160506T200000Z
X-MICROSOFT-CDO-ALLDAYEVENT:FALSE
SUMMARY:Ribbon Cutting & Open House Ashland Golf Club
DESCRIPTION:Come help us celebrate our new outside Pavilion!\n\nWe will have a sampling of food from our new menu and cash bar!
X-ALT-DESC;FMTTYPE=text/html:<span style="font-size:20px\;"><strong>Come help us celebrate our new outside Pavilion!</strong></span><br />\nWe will have a sampling of food from our new menu and cash bar!
LOCATION:Ashland Golf Club 1333 Center Street\, Ashland OH
UID:e.1651.4104
SEQUENCE:3
DTSTAMP:20260420T205552Z
URL:https://members.ashlandoh.com/events/details/ribbon-cutting-open-house-ashland-golf-club-05-06-2016-4104
END:VEVENT

END:VCALENDAR
