BEGIN:VCALENDAR
VERSION:2.0
PRODID:-//ChamberMaster//Event Calendar 2.0//EN
METHOD:PUBLISH
X-PUBLISHED-TTL:P3D
REFRESH-INTERVAL:P3D
CALSCALE:GREGORIAN
BEGIN:VEVENT
DTSTART:20171206T170000Z
DTEND:20171206T173000Z
X-MICROSOFT-CDO-ALLDAYEVENT:FALSE
SUMMARY:Richland Source - IdeaWorks Ribbon Cutting 12-6-17
DESCRIPTION:Come and join us for our Ribbon Cutting Ceremony celebrating the new IdeaWorks facility.
X-ALT-DESC;FMTTYPE=text/html:Come and join us for our Ribbon Cutting Ceremony celebrating the new IdeaWorks facility.
LOCATION:IdeaWorks 40 W. 4th St. Mansfield\, OH
UID:e.1651.5376
SEQUENCE:3
DTSTAMP:20260419T120130Z
URL:https://members.ashlandoh.com/events/details/richland-source-ideaworks-ribbon-cutting-12-6-17-5376
END:VEVENT

END:VCALENDAR
