BEGIN:VCALENDAR
VERSION:2.0
PRODID:-//ChamberMaster//Event Calendar 2.0//EN
METHOD:PUBLISH
X-PUBLISHED-TTL:P3D
REFRESH-INTERVAL:P3D
CALSCALE:GREGORIAN
BEGIN:VEVENT
DTSTART:20161011T140000Z
DTEND:20161011T160000Z
X-MICROSOFT-CDO-ALLDAYEVENT:FALSE
SUMMARY:Safety Council 2-hour Training Meeting 10-11-16
DESCRIPTION:Incident / Accident Review\n\nWhat are you really trying to learn?\n\nPresented by: Mr. Jim Wirth\, Risk Control 360\n\n	So there has been an incident or accident reported\, are you prepared?  Do you have a process in place?  Do your associates understand the process?\n	Learn what reports to use\, how to involve your MCO and TPA and how to educate your associates. \n	There will also be an exercise to practice what you learn!\n\n\nQualifies for the 2-hour mandatory training\n\nOpen to all Regional Safety Councils
X-ALT-DESC;FMTTYPE=text/html:<span style="font-size:24px\;"><strong>Incident / Accident Review</strong></span><br />\n<em>What are you really trying to learn?<br />\nPresented by: Mr. Jim Wirth\, Risk Control 360</em>\n<ul>\n	<li>So there has been an incident or accident reported\, are you prepared?&nbsp\; Do you have a process in place?&nbsp\; Do your associates understand the process?</li>\n	<li>Learn what reports to use\, how to involve your MCO and TPA and how to educate your associates.&nbsp\;</li>\n	<li>There will also be an exercise to practice what you learn!</li>\n</ul>\n\n<p>Qualifies for the 2-hour mandatory training</p>\n\n<p>Open to all Regional Safety Councils</p>\n
LOCATION:Ashland Kroc Center Community Room 527 E. Liberty Street\, Ashland OH
UID:e.1651.4145
SEQUENCE:3
DTSTAMP:20260420T121501Z
URL:https://members.ashlandoh.com/events/details/safety-council-2-hour-training-meeting-10-11-16-4145
END:VEVENT

END:VCALENDAR
