BEGIN:VCALENDAR
VERSION:2.0
PRODID:-//ChamberMaster//Event Calendar 2.0//EN
METHOD:PUBLISH
X-PUBLISHED-TTL:P3D
REFRESH-INTERVAL:P3D
CALSCALE:GREGORIAN
BEGIN:VEVENT
DTSTART:20160720T153000Z
DTEND:20160720T170000Z
X-MICROSOFT-CDO-ALLDAYEVENT:FALSE
SUMMARY:Safety Council 2016-17 Mtg
DESCRIPTION:REMINDER - WE HAVE MOVED SAFETY COUNCIL TO THE 3RD WEDS OF THE MONTH FOR THE 2016-17 CLASS YEAR!\n\n\n\nImproved Safety Through A Proactive Lean Approach\n\nPresented by Mr. Jan Miller with MAGNET   \n\n\n\nTopic Agenda:\n\n	Safety and Health System Model Overview\n	Lean Daily Management (Visual & Baseline Metrics)\n	Lean Tools (Root Cause Analysis Tools\, Rattlesnake Hunts\, 5S/6S\, Kaizen Events)
X-ALT-DESC;FMTTYPE=text/html:<span style="color:#800000\;"><strong><span style="font-family: calibri\,sans-serif\;"><span style="font-size: 11pt\;">REMINDER - WE HAVE MOVED SAFETY COUNCIL TO THE 3RD WEDS OF THE MONTH FOR THE 2016-17 CLASS YEAR!</span></span></strong></span><br />\n<br />\n<span style="font-size:18px\;">Improved Safety Through A Proactive Lean Approach</span><br />\nPresented by Mr. Jan Miller with MAGNET &nbsp\;&nbsp\;<br />\n<br />\nTopic Agenda:\n<ul>\n	<li>Safety and Health System Model Overview</li>\n	<li>Lean Daily Management (Visual &amp\; Baseline Metrics)</li>\n	<li>Lean Tools (Root Cause Analysis Tools\, Rattlesnake Hunts\, 5S/6S\, Kaizen Events)</li>\n</ul>\n
LOCATION:PLEASE NOTE OUR NEW Location! The Fraternal Order of Eagles Club 400 Eastlake Drive\, Ashland OH 44805
UID:e.1651.4107
SEQUENCE:3
DTSTAMP:20260420T173244Z
URL:https://members.ashlandoh.com/events/details/safety-council-2016-17-mtg-07-20-2016-4107
END:VEVENT

END:VCALENDAR
