BEGIN:VCALENDAR
VERSION:2.0
PRODID:-//ChamberMaster//Event Calendar 2.0//EN
METHOD:PUBLISH
X-PUBLISHED-TTL:P3D
REFRESH-INTERVAL:P3D
CALSCALE:GREGORIAN
BEGIN:VEVENT
DTSTART:20161214T163000Z
DTEND:20161214T180000Z
X-MICROSOFT-CDO-ALLDAYEVENT:FALSE
SUMMARY:Safety Council 2016-17 Mtg 12-14-16
DESCRIPTION:Ashland Inc. - Plant Tour\n\nPresented by Scott Heldenbrand & the Ashland\, Inc. Safety Team\n\n\n\nTopic Agenda:Learn about their Safety Program and their Safety Innovation that won them 2nd place last year at Safety Congress!\n\n\n\nWe will start at the Eagles for lunch first\, talk there and then travel down the road to tour their facility!  Remember to wear closed toe shoes /boots (it will be December\, but just in case...)
X-ALT-DESC;FMTTYPE=text/html:<span style="font-size:14px\;"><strong>Ashland Inc. - Plant Tour</strong></span><br />\nPresented by Scott Heldenbrand &amp\; the Ashland\, Inc. Safety Team<br />\n<br />\nTopic Agenda:Learn about their Safety Program and their Safety Innovation that won them 2nd place last year at Safety Congress!<br />\n<br />\nWe will start at the Eagles for lunch first\, talk there and then travel down the road to tour their facility!&nbsp\; Remember to wear closed toe shoes /boots (it will be December\, but just in case...)\n<ul>\n</ul>\n
LOCATION:PLEASE NOTE OUR NEW Location! The Fraternal Order of Eagles Club 400 Eastlake Drive\, Ashland OH 44805
UID:e.1651.4124
SEQUENCE:3
DTSTAMP:20260420T103956Z
URL:https://members.ashlandoh.com/events/details/safety-council-2016-17-mtg-12-14-16-4124
END:VEVENT

END:VCALENDAR
