BEGIN:VCALENDAR
VERSION:2.0
PRODID:-//ChamberMaster//Event Calendar 2.0//EN
METHOD:PUBLISH
X-PUBLISHED-TTL:P3D
REFRESH-INTERVAL:P3D
CALSCALE:GREGORIAN
BEGIN:VEVENT
DTSTART:20160817T153000Z
DTEND:20160817T170000Z
X-MICROSOFT-CDO-ALLDAYEVENT:FALSE
SUMMARY:Safety Council - 8-17-16 Monthly Meeting
DESCRIPTION:REMINDER - WE HAVE MOVED SAFETY COUNCIL TO THE 3RD WEDS OF THE MONTH FOR THE 2016-17 CLASS YEAR!\n\n\n\nOSHA Rapid Response / Investigations\n\nPresented by Mr. Joe Margetiak\, OSHA\n\n\n\nWe love learning from Joe! He will help you understand their process and how you can be prepared.
X-ALT-DESC;FMTTYPE=text/html:<span style="color:#800000\;"><strong><span style="font-family: calibri\,sans-serif\;"><span style="font-size: 11pt\;">REMINDER - WE HAVE MOVED SAFETY COUNCIL TO THE 3RD WEDS OF THE MONTH FOR THE 2016-17 CLASS YEAR!</span></span></strong></span><br />\n<br />\n<span style="font-size:18px\;">OSHA Rapid Response / Investigations</span><br />\nPresented by Mr. Joe Margetiak\, OSHA<br />\n<br />\nWe love learning from Joe! He will help you understand their process and how you can be prepared.&nbsp\;
LOCATION:PLEASE NOTE OUR NEW Location! The Fraternal Order of Eagles Club 400 Eastlake Drive\, Ashland OH 44805
UID:e.1651.4120
SEQUENCE:3
DTSTAMP:20260420T153431Z
URL:https://members.ashlandoh.com/events/details/safety-council-8-17-16-monthly-meeting-4120
END:VEVENT

END:VCALENDAR
