BEGIN:VCALENDAR
VERSION:2.0
PRODID:-//ChamberMaster//Event Calendar 2.0//EN
METHOD:PUBLISH
X-PUBLISHED-TTL:P3D
REFRESH-INTERVAL:P3D
CALSCALE:GREGORIAN
BEGIN:VEVENT
DTSTART:20170510T153000Z
DTEND:20170510T173000Z
X-MICROSOFT-CDO-ALLDAYEVENT:FALSE
SUMMARY:Safety Council - Active Shooter 2.0
DESCRIPTION:Safety Council Bonus Meeting\n\nProper Response/Solutions to Aggressive Behavior and Active Shooters Saves Lives\n\nPresenter:  Tim Dimoff\, CEO/President of SACS Consulting and Investigative Services.\, Inc. \n\n\n\nThis Tim's Talk explains how proper response to aggressive behavior/active shooters can increase your odds of survival. You can hide under a table and die\, or learn how to increase your odds of survival.\n\n \n\n	Learn Current and Future Trends of Aggressive Behavior & Active Shooter\n	Learn how physical security measures can be a deterrent/preventative measure\n	Identify the best escape routes and safe areas in your facility\n	Learn how to fight back when there is no other alternative\n	Embrace NEW technology to upgrade your physical facility prevention and response\n	Experience and learn about NEW technology LIVE at this seminar\n\n\nWe will also have (6) Six Special Solutions Providers and Demonstrations by Professional Organizations LIVE.  You'll be able to interact with their products and learn which would be best for your company!
X-ALT-DESC;FMTTYPE=text/html:<strong><span style="font-size:24.0pt\;">Safety Council Bonus Meeting<br />\n<span style="font-size:18px\;">Proper Response/Solutions to&nbsp\;Aggressive Behavior and Active Shooters Saves Lives</span></span></strong><br />\nPresenter:&nbsp\; Tim Dimoff\, CEO/President of SACS Consulting and Investigative Services.\, Inc.&nbsp\;<br />\n<br />\nThis <em><strong>Tim&rsquo\;s Talk&nbsp\;</strong></em>explains how proper response to aggressive behavior/active shooters can&nbsp\;increase your odds of survival. You can hide under a table and die\, or learn how to increase your odds of survival.<br />\n&nbsp\;\n<ul>\n	<li style="color:#002060\;">Learn Current and Future Trends of Aggressive Behavior &amp\; Active Shooter</li>\n	<li style="color:#002060\;">Learn how physical security measures can be a deterrent/preventative measure</li>\n	<li style="color:#002060\;">Identify the best escape routes and safe areas in your facility</li>\n	<li style="color:#002060\;">Learn how to fight back when there is no other alternative</li>\n	<li style="color:#002060\;">Embrace NEW technology to upgrade your physical facility prevention and response</li>\n	<li style="color:#002060\;">Experience and learn about NEW technology LIVE at this seminar</li>\n</ul>\n\n<div style="color:#002060\;">We will also have (6) Six Special Solutions Providers and Demonstrations by Professional Organizations LIVE.&nbsp\; You&#39\;ll be able to interact with their products and learn which would be best for your company!</div>\n
LOCATION:Hedstrom Training Facility 100 Hedstrom Parkway Ashland\, OH 44805
UID:e.1651.4293
SEQUENCE:3
DTSTAMP:20260420T000324Z
URL:https://members.ashlandoh.com/events/details/safety-council-active-shooter-2-0-4293
END:VEVENT

END:VCALENDAR
