BEGIN:VCALENDAR
VERSION:2.0
PRODID:-//ChamberMaster//Event Calendar 2.0//EN
METHOD:PUBLISH
X-PUBLISHED-TTL:P3D
REFRESH-INTERVAL:P3D
CALSCALE:GREGORIAN
BEGIN:VEVENT
DTSTART:20170118T163000Z
DTEND:20170118T180000Z
X-MICROSOFT-CDO-ALLDAYEVENT:FALSE
SUMMARY:Safety Council - ALICE Trainingn- 1-18-17
DESCRIPTION:ALICE - Domestic Terrorism\n\nPresented by Chief Marcelli & Tim Dimoff
X-ALT-DESC;FMTTYPE=text/html:<strong>ALICE - Domestic Terrorism</strong><br />\nPresented by Chief Marcelli &amp\; Tim Dimoff<br />\n&nbsp\;
LOCATION:REMINDER - PLEASE NOTE OUR NEW Location! Returning to UH Samaritan on Main! UH/ Samaritan on Main\, 663 E. Main Street! Main Community Room
UID:e.1651.4125
SEQUENCE:3
DTSTAMP:20260420T073439Z
URL:https://members.ashlandoh.com/events/details/safety-council-alice-trainingn-1-18-17-4125
END:VEVENT

END:VCALENDAR
