BEGIN:VCALENDAR
VERSION:2.0
PRODID:-//ChamberMaster//Event Calendar 2.0//EN
METHOD:PUBLISH
X-PUBLISHED-TTL:P3D
REFRESH-INTERVAL:P3D
CALSCALE:GREGORIAN
BEGIN:VEVENT
DTSTART:20161116T163000Z
DTEND:20161116T180000Z
X-MICROSOFT-CDO-ALLDAYEVENT:FALSE
SUMMARY:Safety Council - Arch Flash - 11-16-16
DESCRIPTION:REMINDER - WE HAVE MOVED SAFETY COUNCIL TO THE 3RD WEDS OF THE MONTH FOR THE 2016-17 CLASS YEAR!\n\n\n\nArch Flash - This isn't a new Super Hero!\n\nPresented by Michael Kovacic\, ES Squared\, Inc.  \n\n\n\nLearn about the new standard\, how to prevent and what to do if it happens!
X-ALT-DESC;FMTTYPE=text/html:<span style="color:#800000\;"><strong><span style="font-family: calibri\,sans-serif\;"><span style="font-size: 11pt\;">REMINDER - WE HAVE MOVED SAFETY COUNCIL TO THE 3RD WEDS OF THE MONTH FOR THE 2016-17 CLASS YEAR!</span></span></strong></span><br />\n<br />\n<strong>Arch Flash - This isn&#39\;t a new Super Hero!</strong><br />\nPresented by Michael Kovacic\, ES Squared\, Inc. &nbsp\;<br />\n<br />\nLearn about the new standard\, how to prevent and what to do if it happens!
LOCATION:PLEASE NOTE OUR NEW Location! The Fraternal Order of Eagles Club 400 Eastlake Drive\, Ashland OH 44805
UID:e.1651.4123
SEQUENCE:3
DTSTAMP:20260420T122645Z
URL:https://members.ashlandoh.com/events/details/safety-council-arch-flash-11-16-16-4123
END:VEVENT

END:VCALENDAR
