BEGIN:VCALENDAR
VERSION:2.0
PRODID:-//ChamberMaster//Event Calendar 2.0//EN
METHOD:PUBLISH
X-PUBLISHED-TTL:P3D
REFRESH-INTERVAL:P3D
CALSCALE:GREGORIAN
BEGIN:VEVENT
DTSTART:20140402T153000Z
DTEND:20140402T170000Z
X-MICROSOFT-CDO-ALLDAYEVENT:FALSE
SUMMARY:Safety Council - Awards Luncheon 4/02/2014
DESCRIPTION:SAFETY COUNCIL AWARDS LUNCHEON\n\nSpeaker: James Wyse - BWC Representative\n\n\n\nCongratulations to all of our 2013 participants!\n\n\n\nCompany awards will be presented to honor local companies who have demonstrated exemplary commitment to safety in 2013 and who have been recognized by the Ohio Bureau of Workers' Compensation Division of Safety and Hygiene in the following four categories:\n\n\n	100% Award - Companies that have worked an entire year without a lost-time injury or illness\n	Achievement Award - Companies that have shown a decrease in incident rates from last year\n	The Group Awards - Companies showing the lowest incident rate in each group\n	Special Awards - Companies that have recorded hours worked without a lost-time injury
X-ALT-DESC;FMTTYPE=text/html:<span style="color:#ff6600\;"><strong>SAFETY COUNCIL AWARDS LUNCHEON</strong></span><br />\n<em><strong>Speaker: James Wyse - BWC Representative</strong></em><br />\n<br />\nCongratulations to all of our 2013 participants!<br />\n<br />\n<em>Company awards will be presented to honor local companies who have demonstrated exemplary commitment to safety in 2013 and who have been recognized by the Ohio Bureau of Workers&#39\; Compensation Division of Safety and Hygiene in the following four categories:</em>\n\n<ul>\n	<li><strong>100% Award</strong> - Companies that have worked an entire year without a lost-time injury or illness</li>\n	<li><strong>Achievement Award</strong> - Companies that have shown a decrease in incident rates from last year</li>\n	<li><strong>The Group Awards</strong> - Companies showing the lowest incident rate in each group</li>\n	<li><strong>Special Awards</strong> - Companies that have recorded hours worked without a lost-time injury</li>\n</ul>\n
LOCATION:Pump House Restaurant & Grille 400 Orange St.\, Ashland OH 44805
UID:e.1651.648
SEQUENCE:3
DTSTAMP:20260422T162441Z
URL:https://members.ashlandoh.com/events/details/safety-council-awards-luncheon-4-02-2014-04-02-2014-648
END:VEVENT

END:VCALENDAR
