BEGIN:VCALENDAR
VERSION:2.0
PRODID:-//ChamberMaster//Event Calendar 2.0//EN
METHOD:PUBLISH
X-PUBLISHED-TTL:P3D
REFRESH-INTERVAL:P3D
CALSCALE:GREGORIAN
BEGIN:VEVENT
DTSTART:20130403T153000Z
DTEND:20130403T170000Z
X-MICROSOFT-CDO-ALLDAYEVENT:FALSE
SUMMARY:Safety Council Awards Luncheon 4/3/2013
DESCRIPTION:Company Awards presented to honor local companies who have demonstrated exemplary commitment to safety in 2012 and who have been recognized by the Ohio Bureau of Worker's Compensation Division of Safety and Hygiene in the following four categories: \n\n	\n		100% Award - Companies that have worked an entire year without a lost-time injury or illness.\n	\n		Achievement Award - Companies that have shown a decrease in incident rates from last year.\n	\n		The Group Awards - Companies showing the lowest incident rate in each group.\n	\n		Special Awards - Companies that have recorded hours worked without a lost-time injury.
X-ALT-DESC;FMTTYPE=text/html:<p class="alttext1">\n	<strong><span style="font-size: 14px\;"><span class="alttext2">Company Awards presented to honor local companies who have demonstrated exemplary commitment to safety in 2012 and who have been recognized by the Ohio Bureau of Worker&#39\;s Compensation Division of Safety and Hygiene in the following four categories: </span></span></strong></p>\n<ul>\n	<li>\n		<span class="alttext2"><span style="font-size: small\;"><span style="font-family: arial black\,avant garde\;">100% Award -</span></span> <em>Companies that have worked an entire year without a lost-time injury or illness.</em></span></li>\n	<li>\n		<span class="alttext2"><span style="font-size: small\;"><span style="font-family: arial black\,avant garde\;">Achievement Award</span></span> - <em>Companies that have shown a decrease in incident rates from last year.</em></span></li>\n	<li>\n		<span class="alttext2"><span style="font-size: small\;"><span style="font-family: arial black\,avant garde\;">The Group Awards</span></span> - <em>Companies showing the lowest incident rate in each group.</em></span></li>\n	<li>\n		<span class="alttext2"><span style="font-size: small\;"><span style="font-family: arial black\,avant garde\;">Special Awards </span></span>- <em>Companies that have recorded hours worked without a lost-time injury.</em></span></li>\n</ul>\n
LOCATION:Ashland University Convocation Center 638 Jefferson St.\, Ashland\, Oh 44805
UID:e.1651.234
SEQUENCE:3
DTSTAMP:20260423T114935Z
URL:https://members.ashlandoh.com/events/details/safety-council-awards-luncheon-4-3-2013-04-03-2013-234
END:VEVENT

END:VCALENDAR
