BEGIN:VCALENDAR
VERSION:2.0
PRODID:-//ChamberMaster//Event Calendar 2.0//EN
METHOD:PUBLISH
X-PUBLISHED-TTL:P3D
REFRESH-INTERVAL:P3D
CALSCALE:GREGORIAN
BEGIN:VEVENT
DTSTART:20170517T153000Z
DTEND:20170517T170000Z
X-MICROSOFT-CDO-ALLDAYEVENT:FALSE
SUMMARY:Safety Council Awards Luncheon 5-17-17
DESCRIPTION:Annual Safety Council Awards Luncheon\n\nSeven Critical Strategies for Improving the Health\, Safety and Well-being of Your Workforce\n\nPresented by Shanna Dunbar\, Workplace Health\, Inc.\n\n\n\nTopic Agenda:\n\n	Total Worker Health - Learn about this NIOSH model of wellness and how it interfaces with safety programming.  The director of this program\, Dr Chosewood gave a compelling keynote at last years Ohio Safety Congress. Shannon will review some of the important points he made in his presentation!
X-ALT-DESC;FMTTYPE=text/html:<span style="font-size:18px\;">Annual Safety Council Awards Luncheon</span><br />\n<span style="font-size:18px\;"><strong><span style="color: black\;"><span style="font-family: calibri\,sans-serif\;">Seven Critical Strategies for Improving the Health\, Safety and Well-being of Your Workforce</span></span></strong></span><br />\nPresented by Shanna Dunbar\, Workplace Health\, Inc.<br />\n<br />\nTopic Agenda:\n<ul>\n	<li><span style="color:black\;"><span style="font-family:calibri\,sans-serif\;"><span style="font-size:10.5pt\;"><em><strong>Total Worker Health -</strong></em> Learn about this&nbsp\;NIOSH model of wellness and how it interfaces with safety programming. &nbsp\;The director of this program\, Dr Chosewood gave a compelling keynote at last years Ohio Safety Congress. Shannon will review some of the important points he made in his presentation!&nbsp\; </span></span></span></li>\n</ul>\n
LOCATION:UH/Samaritan on Main\, 663 E. Main St. Ashland\, OH
UID:e.1651.4129
SEQUENCE:3
DTSTAMP:20260420T014545Z
URL:https://members.ashlandoh.com/events/details/safety-council-awards-luncheon-5-17-17-4129
END:VEVENT

END:VCALENDAR
