BEGIN:VCALENDAR
VERSION:2.0
PRODID:-//ChamberMaster//Event Calendar 2.0//EN
METHOD:PUBLISH
X-PUBLISHED-TTL:P3D
REFRESH-INTERVAL:P3D
CALSCALE:GREGORIAN
BEGIN:VEVENT
DTSTART:20161019T153000Z
DTEND:20161019T170000Z
X-MICROSOFT-CDO-ALLDAYEVENT:FALSE
SUMMARY:Safety Council - Blood Borne Pathogens 10-19-16
DESCRIPTION:Bloodborne Pathogens\n\nPresented by Donna Robles\, R.N UH/Samaritan Medical Center \n\n	What are Bloodborne Pathogens? Why are they harmful? How can I protect myself & my employees? What is our exposure control plan?\n	NOTE: Donna will be teaching the AHA Heartsaver Blood Borne Pathogen program. She will use the AHA approved courseware and provide each participant with a card indicating they have completed Part 1 of blood borne pathogen training. \n\n\n\nPart 2 consists of site-specific training that needs done in accordance with their employers Exposure Control Plan. To meet OSHA requirements both parts must be completed.\n\n \n\n*** PLEASE BRING a copy of YOUR organizations exposure control plan to reference during the training. BUT NOTE: this will not mean\, however\, that they get credit for Part 2. Part 2 training needs to be done at the work-site. Please come prepared to schedule your Part 2 training!
X-ALT-DESC;FMTTYPE=text/html:<span style="font-size:18px\;">Bloodborne Pathogens</span><br />\nPresented by Donna Robles\, R.N UH/Samaritan Medical Center&nbsp\;\n<ul>\n	<li>What are Bloodborne Pathogens? Why are they harmful? How can I protect myself &amp\; my employees? What is our exposure control plan?</li>\n	<li><span style="color:#1F497D\;">NOTE: Donna will be teaching the AHA Heartsaver Blood Borne Pathogen program. She will use the AHA approved courseware and provide each participant with a card indicating they have completed Part 1 of blood borne pathogen training. </span></li>\n</ul>\n<br />\n<span style="color:#1F497D\;">Part 2 consists of <strong>site-specific training</strong> that needs done in accordance with their employers <u>Exposure Control Plan. </u>To meet OSHA requirements both parts must be completed.</span><br />\n&nbsp\;<br />\n<span style="color:#1F497D\;"><strong><span style="background-color:#FFFF00\;">*** PLEASE BRING a copy of YOUR organizations exposure control plan</span></strong> to reference during the training. BUT NOTE: this will not mean\, however\, that they get credit for Part 2. Part 2 training needs to be done at the work-site. Please come prepared to schedule your Part 2 training!</span><br />\n&nbsp\;
LOCATION:PLEASE NOTE OUR NEW Location! The Fraternal Order of Eagles Club 400 Eastlake Drive\, Ashland OH 44805
UID:e.1651.4122
SEQUENCE:3
DTSTAMP:20260420T135153Z
URL:https://members.ashlandoh.com/events/details/safety-council-blood-borne-pathogens-10-19-16-4122
END:VEVENT

END:VCALENDAR
