BEGIN:VCALENDAR
VERSION:2.0
PRODID:-//ChamberMaster//Event Calendar 2.0//EN
METHOD:PUBLISH
X-PUBLISHED-TTL:P3D
REFRESH-INTERVAL:P3D
CALSCALE:GREGORIAN
BEGIN:VEVENT
DTSTART:20151119T150000Z
DTEND:20151119T170000Z
X-MICROSOFT-CDO-ALLDAYEVENT:FALSE
SUMMARY:Safety Council Bonus 2-hour training class
DESCRIPTION:SAFETY TOPIC: Behavioral Based Safety\n\n \n\nSHORT DESCRIPTION:\n\nPower Point Presentation Key Principles:\n\n\n	Focus interventions on specific observable behaviors\n	Look into external factors to understand and improve behavior.\n	Use signals to direct behaviors and use consequences to motivate workers.\n	Focus on positive consequences (not punishment) to motivate behavior.\n	Use a science-based approach to test and improve interventions.\n	Design interventions while considering the feelings and attitudes of workers within the organization.\n\nThis class will qualify towards your mandatory 2-hour training requirement. A Certificate of attendance will be issued.
X-ALT-DESC;FMTTYPE=text/html:<strong>SAFETY TOPIC:</strong> <strong>Behavioral Based Safety</strong><br />\n&nbsp\;<br />\n<strong>SHORT DESCRIPTION:</strong><br />\n<strong>Power Point Presentation Key Principles:</strong>\n\n<ol>\n	<li>Focus interventions on specific observable behaviors</li>\n	<li>Look into external factors to understand and improve behavior.</li>\n	<li>Use signals to direct behaviors and use consequences to motivate workers.</li>\n	<li>Focus on positive consequences (not punishment) to motivate behavior.</li>\n	<li>Use a science-based approach to test and improve interventions.</li>\n	<li>Design interventions while considering the feelings and attitudes of workers within the organization.</li>\n</ol>\nThis class will qualify towards your mandatory 2-hour training requirement. A Certificate of attendance will be issued.
LOCATION:Samaritan on Main
UID:e.1651.2420
SEQUENCE:3
DTSTAMP:20260421T072628Z
URL:https://members.ashlandoh.com/events/details/safety-council-bonus-2-hour-training-class-11-19-2015-2420
END:VEVENT

END:VCALENDAR
