BEGIN:VCALENDAR
VERSION:2.0
PRODID:-//ChamberMaster//Event Calendar 2.0//EN
METHOD:PUBLISH
X-PUBLISHED-TTL:P3D
REFRESH-INTERVAL:P3D
CALSCALE:GREGORIAN
BEGIN:VEVENT
DTSTART:20131023T153000Z
DTEND:20131023T170000Z
X-MICROSOFT-CDO-ALLDAYEVENT:FALSE
SUMMARY:Safety Council - Bonus Meeting 10/23/13
DESCRIPTION:BONUS MEETING!\n\nHow Low Can You Go?\n\nSpeaker: Jason Bainum\, MBA - Program Manager\, CareWorks Consultants\, Inc.\n\n\n\nHow does your Third Party Administrator (TPA) for workers' compensation here in Ohio help you mitigate your costs for claims and lower your premiums. We will discuss the rates process\, lowering and managing claims costs and much more.
X-ALT-DESC;FMTTYPE=text/html:<strong>BONUS MEETING!</strong><br />\nHow Low Can You Go?<br />\n<span style="color:#a52a2a\;"><span style="font-size: 11px\;"><em>Speaker: Jason Bainum\, MBA - Program Manager\, CareWorks Consultants\, Inc.</em></span></span><br />\n<br />\n<span style="font-size: 11px\;"><span style="font-size:12px\;">How does your Third Party Administrator (TPA) for workers&#39\; compensation here in Ohio help you mitigate your costs for claims and lower your premiums. We will discuss the rates process\, lowering and managing claims costs and much more.</span></span>
LOCATION:Ray & Joan Kroc Center - Community Room 527 E Liberty St\, Ashland OH 44805 Catered by: Fergy's on Main
UID:e.1651.647
SEQUENCE:3
DTSTAMP:20260423T033610Z
URL:https://members.ashlandoh.com/events/details/safety-council-bonus-meeting-10-23-13-10-23-2013-647
END:VEVENT

END:VCALENDAR
