BEGIN:VCALENDAR
VERSION:2.0
PRODID:-//ChamberMaster//Event Calendar 2.0//EN
METHOD:PUBLISH
X-PUBLISHED-TTL:P3D
REFRESH-INTERVAL:P3D
CALSCALE:GREGORIAN
BEGIN:VEVENT
DTSTART:20130828T153000Z
DTEND:20130828T170000Z
X-MICROSOFT-CDO-ALLDAYEVENT:FALSE
SUMMARY:Safety Council - Bonus Meeting 8/28/13
DESCRIPTION:BONUS MEETING!\n\nWhew! It's Hot Out There: Heat Stress Awareness & Prevention\n\nSpeaker: Jeff Hutchins\, M.E.\, CIH Industrial Hygiene Technical Advisor\, BWC\n\n\n\nThis presentation will provide an overview of heat stress signs\, symptoms and preventative measures. As a result\, attendees should be able to:\n\n	\n		Define heat stress and heat-related illnesses\n	\n		Recognize risk factors related to the development of heat-related illness\n	\n		Identify measures to prevent heat-related illness
X-ALT-DESC;FMTTYPE=text/html:<strong>BONUS MEETING!</strong><br />\n<em>Whew! It&#39\;s Hot Out There: Heat Stress Awareness &amp\; Prevention</em><br />\n<span style="color:#a52a2a\;"><span style="font-size: 11px\;">Speaker: Jeff Hutchins\, M.E.\, CIH Industrial Hygiene Technical Advisor\, BWC</span></span><br />\n<br />\n<span style="font-size:12px\;">This presentation will provide an overview of heat stress signs\, symptoms and preventative measures. As a result\, attendees should be able to:</span>\n<ul>\n	<li>\n		<span style="font-size:12px\;">Define heat stress and heat-related illnesses</span></li>\n	<li>\n		<span style="font-size:12px\;">Recognize risk factors related to the development of heat-related illness</span></li>\n	<li>\n		<span style="font-size:12px\;">Identify measures to prevent heat-related illness</span></li>\n</ul>\n<br />\n
LOCATION:Ray & Joan Kroc Center - Community Room 527 E Liberty St.\, Ashland\, OH 44805 Catered by: Fergy's on Main
UID:e.1651.645
SEQUENCE:3
DTSTAMP:20260423T052900Z
URL:https://members.ashlandoh.com/events/details/safety-council-bonus-meeting-8-28-13-08-28-2013-645
END:VEVENT

END:VCALENDAR
