BEGIN:VCALENDAR
VERSION:2.0
PRODID:-//ChamberMaster//Event Calendar 2.0//EN
METHOD:PUBLISH
X-PUBLISHED-TTL:P3D
REFRESH-INTERVAL:P3D
CALSCALE:GREGORIAN
BEGIN:VEVENT
DTSTART:20130925T140000Z
DTEND:20130925T160000Z
X-MICROSOFT-CDO-ALLDAYEVENT:FALSE
SUMMARY:Safety Council - Bonus Meeting 9/25/13
DESCRIPTION:BONUS MEETING!\n\nIncident Investigation\n\nSpeaker: Mark A. Alexander\, CSP\, CHSP\, NREMT-B Safety & Risk Consultant - RiskControl360\n\n\n\nThe presentation will start with why there has to be a culture change in the organization. One of those changes is getting rid of the word "accident". We will cover the reasons why you do an incident investigation and what to do with the results. The emphasis will be getting to the root cause using fact finding not fault finding. Group participation and collaboration will be used to practice the covered points.\n\n\n\nSPECIAL NOTE: This is a 2 hour session - open to other Safety Councils - meets the 2-hour training requirement.
X-ALT-DESC;FMTTYPE=text/html:<strong>BONUS MEETING!</strong><br />\nIncident Investigation<br />\n<span style="color:#a52a2a\;"><span style="font-size: 11px\;"><em>Speaker: Mark A. Alexander\, CSP\, CHSP\, NREMT-B Safety &amp\; Risk Consultant - RiskControl360</em></span></span><br />\n<br />\n<span style="font-size: 11px\;"><span style="font-size:12px\;">The presentation will start with why there has to be a culture change in the organization. One of those changes is getting rid of the word &quot\;accident&quot\;. We will cover the reasons why you do an incident investigation and what to do with the results. The emphasis will be getting to the root cause using fact finding not fault finding. Group participation and collaboration will be used to practice the covered points.</span></span><br />\n<br />\n<strong><span style="color:#ff8c00\;">SPECIAL NOTE: This is a 2 hour session - open to other Safety Councils - meets the 2-hour training requirement.</span></strong>
LOCATION:Ray & Joan Kroc Center - Community Room 527 E Liberty St.\, Ashland OH 44805 Catered by: Fergy's on Main
UID:e.1651.646
SEQUENCE:3
DTSTAMP:20260423T035803Z
URL:https://members.ashlandoh.com/events/details/safety-council-bonus-meeting-9-25-13-09-25-2013-646
END:VEVENT

END:VCALENDAR
