BEGIN:VCALENDAR
VERSION:2.0
PRODID:-//ChamberMaster//Event Calendar 2.0//EN
METHOD:PUBLISH
X-PUBLISHED-TTL:P3D
REFRESH-INTERVAL:P3D
CALSCALE:GREGORIAN
BEGIN:VEVENT
DTSTART:20150127T163000Z
DTEND:20150127T180000Z
X-MICROSOFT-CDO-ALLDAYEVENT:FALSE
SUMMARY:Safety Council Bonus Meeting Wellness Initiative
DESCRIPTION:Integrated Wellness Solutions Presents our 2015 Wellness Challenge Program.
X-ALT-DESC;FMTTYPE=text/html:Integrated Wellness Solutions Presents our 2015 Wellness Challenge Program.
LOCATION:Samaritan on Main\, 663 E. Main St.
UID:e.1651.2166
SEQUENCE:3
DTSTAMP:20260422T012146Z
URL:https://members.ashlandoh.com/events/details/safety-council-bonus-meeting-wellness-initiative-01-27-2015-2166
END:VEVENT

END:VCALENDAR
