BEGIN:VCALENDAR
VERSION:2.0
PRODID:-//ChamberMaster//Event Calendar 2.0//EN
METHOD:PUBLISH
X-PUBLISHED-TTL:P3D
REFRESH-INTERVAL:P3D
CALSCALE:GREGORIAN
BEGIN:VEVENT
DTSTART:20161018T130000Z
DTEND:20161018T150000Z
X-MICROSOFT-CDO-ALLDAYEVENT:FALSE
SUMMARY:Safety Council Bonus Mtg - CPR Class
DESCRIPTION:Both Classes are now filled! NOTE: We are taking names for a class this winter - if interested click here!\n\n\n\nSafety Council Bonus Meeting\n\nCPR training class / American Heart Association Heartsaver CPR AED Course\n\n\n\nThis classroom based course will train your employees to be proficient in the use of CPR\, as well as an AED.  If you need to get certified as a workplace or school requirement\, then this is the course you need to take!\n\n\n\nClass room size limited to 12 people.  First come\, first served. HOWEVER\, if we need to offer additional classes\, we will! Just call Melissa at 419-281-4584 x 102 to be added to the waiting list once the class is full!
X-ALT-DESC;FMTTYPE=text/html:<span style="font-size:24px\;"><span style="color: rgb(178\, 34\, 34)\;"><strong>Both Classes are now filled! NOTE: We are taking names for a class this winter - <a href="mailto:safety@ashlandoh.com?subject=CPR%20Waiting%20List&amp\;body=Please%20add%20the%20following%20names%20to%20the%20NEXT%20CPR%20Class%20(Winter)%3A">if interested click here!</a></strong></span></span><br />\n<br />\nSafety Council Bonus Meeting<br />\nCPR training class / American Heart Association Heartsaver CPR AED Course<br />\n<br />\nThis classroom based course will train your employees to be proficient in the use of CPR\, as well as an AED.&nbsp\; If you need to get certified as a workplace or school requirement\, then this is the course you need to take!<br />\n<br />\nClass room size limited to 12 people.&nbsp\; First come\, first served. HOWEVER\, if we need to offer additional classes\, we will! Just call Melissa at 419-281-4584 x 102 to be added to the waiting list once the class is full!
LOCATION:Ashland Fire Department
UID:e.1651.4143
SEQUENCE:3
DTSTAMP:20260420T135241Z
URL:https://members.ashlandoh.com/events/details/safety-council-bonus-mtg-cpr-class-10-18-2016-4143
END:VEVENT

END:VCALENDAR
