BEGIN:VCALENDAR
VERSION:2.0
PRODID:-//ChamberMaster//Event Calendar 2.0//EN
METHOD:PUBLISH
X-PUBLISHED-TTL:P3D
REFRESH-INTERVAL:P3D
CALSCALE:GREGORIAN
BEGIN:VEVENT
DTSTART;VALUE=DATE:20160810
DTEND;VALUE=DATE:20160811
TRANSP:TRANSPARENT
X-MICROSOFT-CDO-ALLDAYEVENT:TRUE
SUMMARY:Safety Council Fork Lift Certification / Train the Trainer Class
DESCRIPTION:Forklift Safety Certification &\n\nTrain the Trainer Course\n\n\n\nOSHA regulation require drivers to be up-to-date in its operator training:\n\n	Forklift safety training to be performed every 3 years 1910.178(I)(4)\n	Must be re-certified after an accident or near-miss 1910.178(I)(4)\n\nToyota Material Handling Ohio (TMHOH) will be here to provide our Operator Safety Training Class! We are excited to provide this specialized training to our members!\n\n\n\nSpecial thanks to Ball\, Bounce & Sport/Hedstrom for providing their Training facility for this class! AND Barbasol for their sponsorship and inspiration to help make this class happen!
X-ALT-DESC;FMTTYPE=text/html:<span style="font-size:18px\;"><strong>Forklift Safety Certification &amp\;<br />\nTrain the Trainer Course</strong></span><br />\n<br />\nOSHA regulation require drivers to be up-to-date in its operator training:\n<ul>\n	<li>Forklift safety training to be performed every 3 years 1910.178(I)(4)</li>\n	<li>Must be re-certified after an accident or near-miss 1910.178(I)(4)</li>\n</ul>\nToyota Material Handling Ohio (TMHOH) will be here to provide our Operator Safety Training Class! We are excited to provide this specialized training to our members!<br />\n<br />\n<em>Special thanks to Ball\, Bounce &amp\; Sport/Hedstrom for providing their Training facility for this class! AND Barbasol for their sponsorship and inspiration to help make this class happen!</em><br />\n&nbsp\;
LOCATION:Ball\, Bounce & Sport/Hedstrom One Hedstrom Parkway\, Ashland OH
UID:e.1651.4142
SEQUENCE:3
DTSTAMP:20260420T170718Z
URL:https://members.ashlandoh.com/events/details/safety-council-fork-lift-certification-train-the-trainer-class-08-10-2016-4142
END:VEVENT

END:VCALENDAR
