BEGIN:VCALENDAR
VERSION:2.0
PRODID:-//ChamberMaster//Event Calendar 2.0//EN
METHOD:PUBLISH
X-PUBLISHED-TTL:P3D
REFRESH-INTERVAL:P3D
CALSCALE:GREGORIAN
BEGIN:VEVENT
DTSTART:20170215T163000Z
DTEND:20170215T180000Z
X-MICROSOFT-CDO-ALLDAYEVENT:FALSE
SUMMARY:Safety Council - Getting Workers Back to Work - 2-15-17
DESCRIPTION:Getting Workers Back to Work\n\nPresented by Dr. Jentes\, Bryan Finger\n\n\n\nTopic Agenda:\n\n	Low back\, shoulder\, ankle\, knee injuries - what happens and how to understand the "medicalese"\n	Learn why some injuries are harder to manage then others and what we can do to prevent these injuries!
X-ALT-DESC;FMTTYPE=text/html:<span style="font-size:18px\;">Getting Workers Back to Work</span><br />\nPresented by Dr. Jentes\, Bryan Finger<br />\n<br />\nTopic Agenda:\n<ul>\n	<li>Low back\, shoulder\, ankle\, knee injuries - what happens and how to understand the &quot\;medicalese&quot\;</li>\n	<li>Learn why some injuries are harder to manage then others and what we can do to prevent these injuries!</li>\n</ul>\n
LOCATION:UH/Samaritan on Main\, 663 E. Main St. Ashland\, OH
UID:e.1651.4126
SEQUENCE:3
DTSTAMP:20260420T053256Z
URL:https://members.ashlandoh.com/events/details/safety-council-getting-workers-back-to-work-2-15-17-4126
END:VEVENT

END:VCALENDAR
