BEGIN:VCALENDAR
VERSION:2.0
PRODID:-//ChamberMaster//Event Calendar 2.0//EN
METHOD:PUBLISH
X-PUBLISHED-TTL:P3D
REFRESH-INTERVAL:P3D
CALSCALE:GREGORIAN
BEGIN:VEVENT
DTSTART:20170315T153000Z
DTEND:20170315T170000Z
X-MICROSOFT-CDO-ALLDAYEVENT:FALSE
SUMMARY:Safety Council - Machine Guarding - 3-15-17
DESCRIPTION:Machine Guarding - What's its purpose?\n\nPresented by Mike & Chris Rossi\, Rossi Machinery Services\n\n\n\nTopic Agenda:\n\n	OSHA Standards relating to machine guarding\n	Why do I need to have a guard? The machine didn't come with it originally...\n	Learn how to better protect your employees with machine guarding aftermarket\, or customised.
X-ALT-DESC;FMTTYPE=text/html:<span style="font-size:18px\;">Machine Guarding - What&#39\;s its purpose?</span><br />\nPresented by Mike &amp\; Chris Rossi\, Rossi Machinery Services<br />\n<br />\nTopic Agenda:\n<ul>\n	<li>OSHA Standards relating to machine guarding</li>\n	<li>Why do I need to have a guard? The machine didn&#39\;t come with it originally...</li>\n	<li>Learn how to better protect your employees with machine guarding aftermarket\, or customised.</li>\n</ul>\n
LOCATION:UH/Samaritan on Main\, 663 E. Main St. Ashland\, OH
UID:e.1651.4127
SEQUENCE:3
DTSTAMP:20260420T033935Z
URL:https://members.ashlandoh.com/events/details/safety-council-machine-guarding-3-15-17-4127
END:VEVENT

END:VCALENDAR
