BEGIN:VCALENDAR
VERSION:2.0
PRODID:-//ChamberMaster//Event Calendar 2.0//EN
METHOD:PUBLISH
X-PUBLISHED-TTL:P3D
REFRESH-INTERVAL:P3D
CALSCALE:GREGORIAN
BEGIN:VEVENT
DTSTART:20191016T153000Z
DTEND:20191016T170000Z
X-MICROSOFT-CDO-ALLDAYEVENT:FALSE
SUMMARY:Safety Council Meeting 10-16-19 - MCO and TPA Processing
DESCRIPTION:Safety Council Meeting - October 16\, 2019\n\nTopic - MCO and TPA Process of Reporting\n\nSpeaker: Meridith Whitsel\, CareWorksComp\n\nTime: 11:30 am - 1:00 pm\n\nPlace: Sam. On Main - 663 E. Main St.\, Ashland\n\nCost: $15 - members / $20 non-members
X-ALT-DESC;FMTTYPE=text/html:<p><span style="color:#cc6600\;"><strong>Safety Council Meeting - October 16\, 2019</strong></span><br />\n<em>Topic - MCO and TPA Process of Reporting</em><br />\nSpeaker: Meridith Whitsel\, CareWorksComp<br />\nTime: 11:30 am - 1:00 pm<br />\nPlace: Sam. On Main - 663 E. Main St.\, Ashland<br />\nCost: $15 - members / $20 non-members</p>\n
LOCATION:UH/Samaritan On Main 663 E Main St. Ashland OH 44805
UID:e.1651.5805
SEQUENCE:3
DTSTAMP:20260422T070248Z
URL:https://members.ashlandoh.com/events/details/safety-council-meeting-10-16-19-mco-and-tpa-processing-5805
END:VEVENT

END:VCALENDAR
