BEGIN:VCALENDAR
VERSION:2.0
PRODID:-//ChamberMaster//Event Calendar 2.0//EN
METHOD:PUBLISH
X-PUBLISHED-TTL:P3D
REFRESH-INTERVAL:P3D
CALSCALE:GREGORIAN
BEGIN:VEVENT
DTSTART:20171018T153000Z
DTEND:20171018T170000Z
X-MICROSOFT-CDO-ALLDAYEVENT:FALSE
SUMMARY:Safety Council Meeting 10-18-17
DESCRIPTION:Safety Council Meeting - October 18\, 2017\n\n"RAMTech Tour"\n\nTime: 11:30 am - 1:00 pm\n\nPlace: Ashland County - West Holmes Career Center\n\nCost: $15 - members / $20 non-members
X-ALT-DESC;FMTTYPE=text/html:<p><span style="color:#cc6600\;"><strong>Safety Council Meeting - October 18\, 2017</strong></span><br />\n<em>&quot\;RAMTech Tour&quot\;</em><br />\nTime: 11:30 am - 1:00 pm<br />\nPlace: Ashland County - West Holmes Career Center<br />\nCost: $15 - members / $20 non-members<br />\n&nbsp\;</p>\n
LOCATION:ACWH Career Center 1783 St. Rt. 60 Ashland OH 44805
UID:e.1651.5325
SEQUENCE:3
DTSTAMP:20260419T174146Z
URL:https://members.ashlandoh.com/events/details/safety-council-meeting-10-18-17-5325
END:VEVENT

END:VCALENDAR
