BEGIN:VCALENDAR
VERSION:2.0
PRODID:-//ChamberMaster//Event Calendar 2.0//EN
METHOD:PUBLISH
X-PUBLISHED-TTL:P3D
REFRESH-INTERVAL:P3D
CALSCALE:GREGORIAN
BEGIN:VEVENT
DTSTART:20121212T163000Z
DTEND:20121212T180000Z
X-MICROSOFT-CDO-ALLDAYEVENT:FALSE
SUMMARY:Safety Council Meeting 12/12/12
DESCRIPTION:
X-ALT-DESC;FMTTYPE=text/html:
LOCATION:Samaritan on Main 663 East Main Street\, Ashland
UID:e.1651.230
SEQUENCE:3
DTSTAMP:20260423T182718Z
URL:https://members.ashlandoh.com/events/details/safety-council-meeting-12-12-12-12-12-2012-230
END:VEVENT

END:VCALENDAR
