BEGIN:VCALENDAR
VERSION:2.0
PRODID:-//ChamberMaster//Event Calendar 2.0//EN
METHOD:PUBLISH
X-PUBLISHED-TTL:P3D
REFRESH-INTERVAL:P3D
CALSCALE:GREGORIAN
BEGIN:VEVENT
DTSTART:20171213T163000Z
DTEND:20171213T180000Z
X-MICROSOFT-CDO-ALLDAYEVENT:FALSE
SUMMARY:Safety Council Meeting 12-13-17
DESCRIPTION:Safety Council Meeting - December 13\, 2017\n\n"Fire Safety"\n\nSpeaker: Ashland Fire Department\n\nTime: 11:30 am - 1:00 pm\n\nPlace: Sam. On Main - 663 E. Main St.\, Ashland\n\nCost: $15 - members / $20 non-members
X-ALT-DESC;FMTTYPE=text/html:<p><span style="color:#cc6600\;"><strong>Safety Council Meeting - December 13\, 2017</strong></span><br />\n<em>&quot\;Fire Safety&quot\;</em><br />\nSpeaker: Ashland Fire Department<br />\nTime: 11:30 am - 1:00 pm<br />\nPlace: Sam. On Main - 663 E. Main St.\, Ashland<br />\nCost: $15 - members / $20 non-members<br />\n&nbsp\;</p>\n
LOCATION:Sam. On Main 663 E Main St. Ashland OH 44805
UID:e.1651.5327
SEQUENCE:3
DTSTAMP:20260419T121544Z
URL:https://members.ashlandoh.com/events/details/safety-council-meeting-12-13-17-5327
END:VEVENT

END:VCALENDAR
