BEGIN:VCALENDAR
VERSION:2.0
PRODID:-//ChamberMaster//Event Calendar 2.0//EN
METHOD:PUBLISH
X-PUBLISHED-TTL:P3D
REFRESH-INTERVAL:P3D
CALSCALE:GREGORIAN
BEGIN:VEVENT
DTSTART:20130213T164500Z
DTEND:20130213T180000Z
X-MICROSOFT-CDO-ALLDAYEVENT:FALSE
SUMMARY:Safety Council Meeting 2/13/13
DESCRIPTION:
X-ALT-DESC;FMTTYPE=text/html:
LOCATION:Samaritan Regional Health System
UID:e.1651.232
SEQUENCE:3
DTSTAMP:20260423T153214Z
URL:https://members.ashlandoh.com/events/details/safety-council-meeting-2-13-13-02-13-2013-232
END:VEVENT

END:VCALENDAR
