BEGIN:VCALENDAR
VERSION:2.0
PRODID:-//ChamberMaster//Event Calendar 2.0//EN
METHOD:PUBLISH
X-PUBLISHED-TTL:P3D
REFRESH-INTERVAL:P3D
CALSCALE:GREGORIAN
BEGIN:VEVENT
DTSTART:20130313T153000Z
DTEND:20130313T170000Z
X-MICROSOFT-CDO-ALLDAYEVENT:FALSE
SUMMARY:Safety Council Meeting 3/13/13
DESCRIPTION:"JSA 2.0 - The Ins & Outs of Job Safety Analysis"\n\n	You will learn a proactive approach to hazard recognition\; The benefits of JSA's\; Development Techniques (step by step) of JSA's\; How to implement JSA's and How to utilize and maintain JSA's.\n\n	Speaker: Robin Watson\, BWC Canton\n\n	Location: Samaritan on Main\, 663 E. Main St. Ashland OH 44805
X-ALT-DESC;FMTTYPE=text/html:<p class="header2">\n	<span style="font-size: 16px\;"><strong><span style="color: rgb(255\, 140\, 0)\;">&quot\;JSA 2.0 - The Ins &amp\; Outs of Job Safety Analysis&quot\;</span></strong></span></p>\n<p class="alttext1">\n	You will learn a proactive approach to hazard recognition\; The benefits of JSA&#39\;s\; Development Techniques (step by step) of JSA&#39\;s\; How to implement JSA&#39\;s and How to utilize and maintain JSA&#39\;s.</p>\n<p class="header3" style="text-align: left\;">\n	<em><strong><span style="color: rgb(255\, 140\, 0)\;">Speaker:</span> Robin Watson\, BWC Canton</strong></em><br />\n	Location: Samaritan on Main\, 663 E. Main St. Ashland OH 44805</p>\n
LOCATION:Samaritan Regional Health System 663 E Main St.\, Ashland\, OH 44805
UID:e.1651.233
SEQUENCE:3
DTSTAMP:20260423T133603Z
URL:https://members.ashlandoh.com/events/details/safety-council-meeting-3-13-13-03-13-2013-233
END:VEVENT

END:VCALENDAR
