BEGIN:VCALENDAR
VERSION:2.0
PRODID:-//ChamberMaster//Event Calendar 2.0//EN
METHOD:PUBLISH
X-PUBLISHED-TTL:P3D
REFRESH-INTERVAL:P3D
CALSCALE:GREGORIAN
BEGIN:VEVENT
DTSTART:20130417T154500Z
DTEND:20130417T170000Z
X-MICROSOFT-CDO-ALLDAYEVENT:FALSE
SUMMARY:Safety Council Meeting 4/17/13
DESCRIPTION:"Can You Hear Me Now? Hearing Protection\, Noise Hazards and Interventions"\n\n	Come learn how to prevent fines happening in your company! (An Ohio Wooden Pallet Manufacturer cited for Noise Hazards\, $101\,000 fine proposed!)\n\n	\n\n	Speaker: Patrik J. McDonnell\, I.H. BWC\n\n	\n\n	Sponsored by:\n\n	Samaritan Regional Health System\n\n	Bill Harris Dealerships\n\n	Spherion Staffing
X-ALT-DESC;FMTTYPE=text/html:<p class="header2">\n	<span style="font-size:16px\;"><strong><span style="color: rgb(255\, 140\, 0)\;">&quot\;Can You Hear Me Now? Hearing Protection\, Noise Hazards and Interventions&quot\;</span></strong></span></p>\n<p class="header3">\n	<strong>Come learn how to prevent fines happening in your company! (An Ohio Wooden Pallet Manufacturer cited for Noise Hazards\, $101\,000 fine proposed!)<br />\n	<br />\n	<em>Speaker: Patrik J. McDonnell\, I.H. BWC</em></strong><br />\n	<br />\n	<span style="color:#ff8c00\;"><span style="font-size: 14px\;"><strong>Sponsored by:</strong></span></span><br />\n	Samaritan Regional Health System<br />\n	Bill Harris Dealerships<br />\n	Spherion Staffing<br />\n	&nbsp\;</p>\n
LOCATION:Samaritan Regional Health System 663 E Main St.\, Ashland OH 4480
UID:e.1651.235
SEQUENCE:3
DTSTAMP:20260423T115014Z
URL:https://members.ashlandoh.com/events/details/safety-council-meeting-4-17-13-04-17-2013-235
END:VEVENT

END:VCALENDAR
