BEGIN:VCALENDAR
VERSION:2.0
PRODID:-//ChamberMaster//Event Calendar 2.0//EN
METHOD:PUBLISH
X-PUBLISHED-TTL:P3D
REFRESH-INTERVAL:P3D
CALSCALE:GREGORIAN
BEGIN:VEVENT
DTSTART:20130508T153000Z
DTEND:20130508T170000Z
X-MICROSOFT-CDO-ALLDAYEVENT:FALSE
SUMMARY:Safety Council Meeting 5/8/13
DESCRIPTION:"Please Don't Listen to Your Mother - Stop Sharing!!  Communicable Diseases\, Procedures\, Policies & Controls"\n\n	\n\n	Speaker:    Shirley Bixby\, Ashland Health Department\n\n	\n\n	Sponsored by:  \n\n	Samaritan Regional Health System\n\n	Bill Harris Dealerships\n\n	 Spherion Staffing
X-ALT-DESC;FMTTYPE=text/html:<p class="header3">\n	<span style="font-size: 16px\;"><span style="color: rgb(255\, 140\, 0)\;"><strong>&quot\;Please Don&#39\;t Listen to Your Mother - Stop Sharing!!&nbsp\; Communicable Diseases\, Procedures\, Policies &amp\; Controls&quot\;</strong></span></span><br />\n	<br />\n	<em><strong>Speaker:&nbsp\;&nbsp\;&nbsp\; Shirley Bixby\, Ashland Health Department</strong></em><br />\n	<br />\n	<span style="color: rgb(178\, 34\, 34)\;"><span style="font-size: 14px\;"><strong>Sponsored by:</strong></span></span><span _fck_bookmark="1" style="display: none\;">&nbsp\;</span><span _fck_bookmark="1" style="display: none\;">&nbsp\;</span><br />\n	Samaritan Regional Health System<br />\n	Bill Harris Dealerships<br />\n	&nbsp\;Spherion Staffing</p>\n
LOCATION:Samaritan On Main 663 E. Main St.\, Ashland\, OH 44805
UID:e.1651.236
SEQUENCE:3
DTSTAMP:20260423T102624Z
URL:https://members.ashlandoh.com/events/details/safety-council-meeting-5-8-13-05-08-2013-236
END:VEVENT

END:VCALENDAR
