BEGIN:VCALENDAR
VERSION:2.0
PRODID:-//ChamberMaster//Event Calendar 2.0//EN
METHOD:PUBLISH
X-PUBLISHED-TTL:P3D
REFRESH-INTERVAL:P3D
CALSCALE:GREGORIAN
BEGIN:VEVENT
DTSTART:20130612T153000Z
DTEND:20130612T170000Z
X-MICROSOFT-CDO-ALLDAYEVENT:FALSE
SUMMARY:Safety Council Meeting 6/12/13
DESCRIPTION:Workplace Safety Best Practices Discussion\n\nSafety Council Members share their best safety practices including how they manager their safety team\; incentive programs\, motivation\, safety week programs\, point systems\, etc.  Bring examples to share!
X-ALT-DESC;FMTTYPE=text/html:<span style="color: rgb(255\, 140\, 0)\;"><span style="font-size: 16px\;"><strong>Workplace Safety Best Practices Discussion</strong></span></span><br />\n<span style="font-size: 12px\;">Safety Council Members share their best safety practices including how they manager their safety team\; incentive programs\, motivation\, safety week programs\, point systems\, etc.&nbsp\; Bring examples to share!</span><br />\n
LOCATION:Samaritan On Main 663 E Main St.\, Ashland\, OH
UID:e.1651.237
SEQUENCE:3
DTSTAMP:20260423T101249Z
URL:https://members.ashlandoh.com/events/details/safety-council-meeting-6-12-13-06-12-2013-237
END:VEVENT

END:VCALENDAR
