BEGIN:VCALENDAR
VERSION:2.0
PRODID:-//ChamberMaster//Event Calendar 2.0//EN
METHOD:PUBLISH
X-PUBLISHED-TTL:P3D
REFRESH-INTERVAL:P3D
CALSCALE:GREGORIAN
BEGIN:VEVENT
DTSTART:20170816T153000Z
DTEND:20170816T170000Z
X-MICROSOFT-CDO-ALLDAYEVENT:FALSE
SUMMARY:Safety Council Meeting 8-16-17
DESCRIPTION:Safety Council Meeting - August 16\, 2017\n\n"An Employee Threat Response"\n\nSpeaker: Tim Dimoff\, SACS Consulting\n\nTime: 11:30 am - 1:00 pm\n\nPlace: Sam. On Main - 663 E. Main St.\, Ashland\n\nCost: $15 - members / $20 non-members
X-ALT-DESC;FMTTYPE=text/html:<p><span style="color:#cc6600\;"><strong>Safety Council Meeting - August 16\, 2017</strong></span><br />\n<em>&quot\;An Employee Threat Response&quot\;</em><br />\nSpeaker: Tim Dimoff\, SACS Consulting<br />\nTime: 11:30 am - 1:00 pm<br />\nPlace: Sam. On Main - 663 E. Main St.\, Ashland<br />\nCost: $15 - members / $20 non-members</p>\n
LOCATION:Sam. On Main 663 E Main St. Ashland OH 44805
UID:e.1651.5323
SEQUENCE:3
DTSTAMP:20260419T205950Z
URL:https://members.ashlandoh.com/events/details/safety-council-meeting-8-16-17-5323
END:VEVENT

END:VCALENDAR
