BEGIN:VCALENDAR
VERSION:2.0
PRODID:-//ChamberMaster//Event Calendar 2.0//EN
METHOD:PUBLISH
X-PUBLISHED-TTL:P3D
REFRESH-INTERVAL:P3D
CALSCALE:GREGORIAN
BEGIN:VEVENT
DTSTART:20170920T153000Z
DTEND:20170920T170000Z
X-MICROSOFT-CDO-ALLDAYEVENT:FALSE
SUMMARY:Safety Council Meeting 9-20-17
DESCRIPTION:Safety Council Meeting - September 20\, 2017\n\n"To Drone or Not To Drone - That's the Question!"\n\nSpeaker: Josh Grappy\, Ohio BWC\n\nTime: 11:30 am - 1:00 pm\n\nPlace: Sam. On Main - 663 E. Main St.\, Ashland\n\nCost: $15 - members / $20 non-members
X-ALT-DESC;FMTTYPE=text/html:<p><span style="color:#cc6600\;"><strong>Safety Council Meeting - September 20\, 2017</strong></span><br />\n<em>&quot\;To Drone or Not To Drone - That&#39\;s the Question!&quot\;</em><br />\nSpeaker: Josh Grappy\, Ohio BWC<br />\nTime: 11:30 am - 1:00 pm<br />\nPlace: Sam. On Main - 663 E. Main St.\, Ashland<br />\nCost: $15 - members / $20 non-members<br />\n&nbsp\;</p>\n
LOCATION:Sam. On Main 663 E Main St. Ashland OH 44805
UID:e.1651.5324
SEQUENCE:3
DTSTAMP:20260419T191656Z
URL:https://members.ashlandoh.com/events/details/safety-council-meeting-9-20-17-5324
END:VEVENT

END:VCALENDAR
