BEGIN:VCALENDAR
VERSION:2.0
PRODID:-//ChamberMaster//Event Calendar 2.0//EN
METHOD:PUBLISH
X-PUBLISHED-TTL:P3D
REFRESH-INTERVAL:P3D
CALSCALE:GREGORIAN
BEGIN:VEVENT
DTSTART:20121109T150000Z
DTEND:20121109T170000Z
X-MICROSOFT-CDO-ALLDAYEVENT:FALSE
SUMMARY:Safety Council Meeting - extra 11/9/12
DESCRIPTION:
X-ALT-DESC;FMTTYPE=text/html:
LOCATION:Ashland University
UID:e.1651.228
SEQUENCE:3
DTSTAMP:20260423T201950Z
URL:https://members.ashlandoh.com/events/details/safety-council-meeting-extra-11-9-12-11-09-2012-228
END:VEVENT

END:VCALENDAR
