BEGIN:VCALENDAR
VERSION:2.0
PRODID:-//ChamberMaster//Event Calendar 2.0//EN
METHOD:PUBLISH
X-PUBLISHED-TTL:P3D
REFRESH-INTERVAL:P3D
CALSCALE:GREGORIAN
BEGIN:VEVENT
DTSTART:20120620T154500Z
DTEND:20120620T170000Z
X-MICROSOFT-CDO-ALLDAYEVENT:FALSE
SUMMARY:Safety Council Meeting - June 20\, 2012
DESCRIPTION:
X-ALT-DESC;FMTTYPE=text/html:
LOCATION:Samaritan on Main
UID:e.1651.157
SEQUENCE:3
DTSTAMP:20260424T051117Z
URL:https://members.ashlandoh.com/events/details/safety-council-meeting-june-20-2012-06-20-2012-157
END:VEVENT

END:VCALENDAR
