BEGIN:VCALENDAR
VERSION:2.0
PRODID:-//ChamberMaster//Event Calendar 2.0//EN
METHOD:PUBLISH
X-PUBLISHED-TTL:P3D
REFRESH-INTERVAL:P3D
CALSCALE:GREGORIAN
BEGIN:VEVENT
DTSTART;VALUE=DATE:20160113
DTEND;VALUE=DATE:20160114
TRANSP:TRANSPARENT
X-MICROSOFT-CDO-ALLDAYEVENT:TRUE
SUMMARY:Safety Council Monthly Meeting 1-13-16
DESCRIPTION:Title: Hearing...Do you really need it?\n\nSpeaker: Ashley Gipson - Ashland ENT
X-ALT-DESC;FMTTYPE=text/html:<strong>Title: </strong>Hearing...Do you really need it?<br />\n<strong>Speaker:</strong> Ashley Gipson - Ashland ENT
LOCATION:Samaritan On Main 663 E Main St.\, Ashland OH 44805
UID:e.1651.2386
SEQUENCE:3
DTSTAMP:20260421T041353Z
URL:https://members.ashlandoh.com/events/details/safety-council-monthly-meeting-1-13-16-01-13-2016-2386
END:VEVENT

END:VCALENDAR
