BEGIN:VCALENDAR
VERSION:2.0
PRODID:-//ChamberMaster//Event Calendar 2.0//EN
METHOD:PUBLISH
X-PUBLISHED-TTL:P3D
REFRESH-INTERVAL:P3D
CALSCALE:GREGORIAN
BEGIN:VEVENT
DTSTART:20150114T163000Z
DTEND:20150114T180000Z
X-MICROSOFT-CDO-ALLDAYEVENT:FALSE
SUMMARY:Safety Council Monthly Meeting 1/14/15
DESCRIPTION:"Go Ahead & Make My Day" Only works in the movies! Violence In The Workplace 3.0\n\nWe will be discussing:\n\n  what to watch for in your employees\n\n  Know your facilities and parking lots\n\n  Have a plan\n\n  Who knows your plan?\n\n \n\nThomas Brohm\, MA\,\n\nLPCC-S\, Director of\n\nEmployee Assistance \n\nSource One Group\n\nMr. Brohm is a licensed professional clinical counselor.  His treatment philosophy is "to help individuals in the quickest way possible\, in the least intrusive way and yet using the most comprehensive methods to assist them in reaching their goals." Mr. Brohm has previously served as the Chief Executive Officer and    Clinical Director of Foundation for Living\, a residential treatment center for adolescents.  Currently\, he is the Director of Employee Assistance Program at the SourceOne Group in Wooster and is a preferred presenter on a variety of topics in and around our community. He is   currently providing contract services at The Counseling Center as well as in private practice. He is involved in his local church and serves as the Board President for Joy of living Camp in Holmes County.
X-ALT-DESC;FMTTYPE=text/html:<span style="font-weight:bold\;language:en-US\;"><span style="color:black\;"><span style="font-family:calibri\;"><span style="font-size:18.0pt\;">&ldquo\;Go Ahead &amp\; Make My Day&rdquo\; Only works in the movies! Violence In The Workplace 3.0</span></span></span></span><br />\n<span style="language:en-US\;"><span style="color:black\;"><span style="font-family:calibri\;">We will be discussing:</span></span></span><br />\n<span style="direction:ltr\;unicode-bidi:embed\;language:x-none\;"><span style="color:black\;"><span style="font-size:10.0pt\;"><span style="font-family:symbol\;">&uml\;</span></span></span></span>&nbsp\;<span style="language:en-US\;"><span style="color:black\;"><span style="font-family:calibri\;">what to watch for in your employees</span></span></span><br />\n<span style="direction:ltr\;unicode-bidi:embed\;language:x-none\;"><span style="color:black\;"><span style="font-size:10.0pt\;"><span style="font-family:symbol\;">&uml\;</span></span></span></span>&nbsp\;<span style="language:en-US\;"><span style="color:black\;"><span style="font-family:calibri\;">Know your facilities and parking lots</span></span></span><br />\n<span style="direction:ltr\;unicode-bidi:embed\;language:x-none\;"><span style="color:black\;"><span style="font-size:10.0pt\;"><span style="font-family:symbol\;">&uml\;</span></span></span></span>&nbsp\;<span style="language:en-US\;"><span style="color:black\;"><span style="font-family:calibri\;">Have a plan</span></span></span><br />\n<span style="direction:ltr\;unicode-bidi:embed\;language:x-none\;"><span style="color:black\;"><span style="font-size:10.0pt\;"><span style="font-family:symbol\;">&uml\;</span></span></span></span>&nbsp\;<span style="language:en-US\;"><span style="color:black\;"><span style="font-family:calibri\;">Who knows your plan?</span></span></span><br />\n&nbsp\;<br />\n<span style="font-weight:bold\;language:en-US\;"><span style="font-family:calibri\;"><span style="font-size:14.0pt\;">Thomas Brohm\, MA\,<br />\nLPCC-S\, Director of<br />\nEmployee Assistance </span></span></span><br />\n<span style="font-style:italic\;font-weight:bold\;language:en-US\;"><span style="font-family:calibri\;"><span style="font-size:11.0pt\;">Source One Group</span></span></span><br />\n<span style="font-style:italic\;language:en-US\;"><span style="font-family:calibri\;"><span style="font-size:11.0pt\;">Mr. Brohm is a licensed professional clinical counselor.&nbsp\; His treatment philosophy is &ldquo\;to help individuals in the quickest way possible\, in the least intrusive way and yet using the most comprehensive methods to assist them in reaching their goals.&rdquo\; Mr. Brohm has previously served as the Chief Executive Officer and&nbsp\;&nbsp\;&nbsp\; Clinical Director of Foundation for Living\, a residential treatment center for adolescents.&nbsp\; Currently\, he is the Director of Employee Assistance Program at the SourceOne Group in Wooster and is a preferred presenter on a variety of topics in and around our community. He is&nbsp\;&nbsp\; currently providing contract services at The Counseling Center as well as in private practice. He is involved in his local church and serves as the Board President for Joy of living Camp in Holmes County.</span></span></span><br />\n&nbsp\;<br />\n&nbsp\;
LOCATION:Samaritan On Main\, 663 E. Main St\, Ashland OH 44805
UID:e.1651.813
SEQUENCE:3
DTSTAMP:20260422T012110Z
URL:https://members.ashlandoh.com/events/details/safety-council-monthly-meeting-1-14-15-01-14-2015-813
END:VEVENT

END:VCALENDAR
