BEGIN:VCALENDAR
VERSION:2.0
PRODID:-//ChamberMaster//Event Calendar 2.0//EN
METHOD:PUBLISH
X-PUBLISHED-TTL:P3D
REFRESH-INTERVAL:P3D
CALSCALE:GREGORIAN
BEGIN:VEVENT
DTSTART:20140108T163000Z
DTEND:20140108T180000Z
X-MICROSOFT-CDO-ALLDAYEVENT:FALSE
SUMMARY:Safety Council Monthly Meeting 1/8/14
DESCRIPTION:The Ashland Area Safety Council Meets monthly on the 2nd Weds. of each month.\n\n\n\nSplish\, Splash\, We're Taking A Bath - Emergency Eyewash & Shower Standards\n\nSpeaker: Mark Alexander\, CSP\, CHSP\, NREMT-B Safety & Risk Consultant - RiskControl360\n\n\n\nOSHA & ANSI on Emergency Eyewash & Showers. We will cover placement\, testing\, water temperature\, and maintenance. Most of the information shared will be based on commonly missed items by employers. Will also be talking about the OSHA & NFPA Standards for Emergency Exits\, Exit Signs\, and Emergency Lights with a focus on placement and testing. The presentation will cover items that most employers are not aware about and the Fire Department forgets to cover.
X-ALT-DESC;FMTTYPE=text/html:The Ashland Area Safety Council Meets monthly on the 2nd Weds. of each month.<br />\n<br />\n<strong><span style="color:#ff3300\;">Splish\, Splash\, We&#39\;re Taking A Bath - Emergency Eyewash &amp\; Shower Standards</span></strong><br />\n<em><span style="color:#b22222\;">Speaker: Mark Alexander\, CSP\, CHSP\, NREMT-B Safety &amp\; Risk Consultant - RiskControl360</span></em><br />\n<br />\n<strong>OSHA &amp\; ANSI on Emergency Eyewash &amp\; Showers.</strong> We will cover placement\, testing\, water temperature\, and maintenance. Most of the information shared will be based on commonly missed items by employers. Will also be talking about the OSHA &amp\; NFPA Standards for Emergency Exits\, Exit Signs\, and Emergency Lights with a focus on placement and testing. The presentation will cover items that most employers are not aware about and the Fire Department forgets to cover.
LOCATION:Samaritan on Main\, 663 E. Main Street\, Ashland\, OH 44805
UID:e.1651.604
SEQUENCE:3
DTSTAMP:20260422T225849Z
URL:https://members.ashlandoh.com/events/details/safety-council-monthly-meeting-1-8-14-01-08-2014-604
END:VEVENT

END:VCALENDAR
